BEGIN:VCALENDAR
VERSION:2.0
PRODID:spatie/icalendar-generator
DESCRIPTION:Veranstaltungen von Narrenzunft Vulkania Aichelberg e.V.
X-WR-CALDESC:Veranstaltungen von Narrenzunft Vulkania Aichelberg e.V.
REFRESH-INTERVAL;VALUE=DURATION:PT1440M
X-PUBLISHED-TTL:PT1440M
BEGIN:VTIMEZONE
TZID:Etc/GMT+0
BEGIN:STANDARD
DTSTART:20250422T160100Z
TZOFFSETFROM:+0000
TZOFFSETTO:+0000
END:STANDARD
END:VTIMEZONE
BEGIN:VTIMEZONE
TZID:UTC
BEGIN:STANDARD
DTSTART:20250727T150322Z
TZOFFSETFROM:+0000
TZOFFSETTO:+0000
END:STANDARD
END:VTIMEZONE
BEGIN:VEVENT
UID:68-6
DTSTAMP:20260423T150322Z
SUMMARY:VULKANAUSBRUCH NZ Vulkania Aichelberg
LOCATION:Zunfthäus\\'le Aichelberg Voderbergstrasse 1  Aichelberg Baden-W
 ürttemberg 73101
ORGANIZER;CN=Derrick:MAILTO:derrick@derbergnauf.de
DTSTART;TZID=Etc/GMT+0:20260117T160100
DTEND;TZID=Etc/GMT+0:20260117T220000
X-ALT-DESC;FMTTYPE=TEXT/HTML:VULKANAUSBRUCH NZ Vulkania Aichelberg - Rathau
 ssturm - Narrenbaum stellen - Maskentaufe - Party am Rathaus &amp;nbsp\; &amp;nbsp
 \;
CATEGORIES:General
URL;VALUE=URI:https://derbergnauf.de/mc-events/vulkanausbruch-nz-vulkania-a
 ichelberg/
METHOD:PUBLISH
END:VEVENT
END:VCALENDAR