BEGIN:VCALENDAR
VERSION:2.0
PRODID:spatie/icalendar-generator
DESCRIPTION:Veranstaltungen von Narrenzunft Vulkania Aichelberg e.V.
X-WR-CALDESC:Veranstaltungen von Narrenzunft Vulkania Aichelberg e.V.
REFRESH-INTERVAL;VALUE=DURATION:PT1440M
X-PUBLISHED-TTL:PT1440M
BEGIN:VTIMEZONE
TZID:Etc/GMT+0
BEGIN:STANDARD
DTSTART:20250415T190000Z
TZOFFSETFROM:+0000
TZOFFSETTO:+0000
END:STANDARD
END:VTIMEZONE
BEGIN:VTIMEZONE
TZID:UTC
BEGIN:STANDARD
DTSTART:20250727T115433Z
TZOFFSETFROM:+0000
TZOFFSETTO:+0000
END:STANDARD
END:VTIMEZONE
BEGIN:VEVENT
UID:66-7
DTSTAMP:20260423T115433Z
SUMMARY:Hillmahexaparty NZ Hillmahexa Dornstadt
LOCATION:Dornstadt   Dornstadt Baden-Württemberg 89160
ORGANIZER;CN=Derrick:MAILTO:derrick@derbergnauf.de
DTSTART;TZID=Etc/GMT+0:20260110T190000
DTEND;TZID=Etc/GMT+0:20260110T235900
X-ALT-DESC;FMTTYPE=TEXT/HTML:Hillmahexaparty NZ Hillmahexa Dornstadt
CATEGORIES:General
URL;VALUE=URI:https://derbergnauf.de/mc-events/hillmahexaparty-nz-hillmahex
 a-dornstadt/
METHOD:PUBLISH
END:VEVENT
END:VCALENDAR