BEGIN:VCALENDAR
VERSION:2.0
PRODID:spatie/icalendar-generator
DESCRIPTION:Veranstaltungen von Narrenzunft Vulkania Aichelberg e.V.
X-WR-CALDESC:Veranstaltungen von Narrenzunft Vulkania Aichelberg e.V.
REFRESH-INTERVAL;VALUE=DURATION:PT1440M
X-PUBLISHED-TTL:PT1440M
BEGIN:VTIMEZONE
TZID:Etc/GMT+0
BEGIN:STANDARD
DTSTART:20250305T150000Z
TZOFFSETFROM:+0000
TZOFFSETTO:+0000
END:STANDARD
END:VTIMEZONE
BEGIN:VTIMEZONE
TZID:UTC
BEGIN:STANDARD
DTSTART:20250727T014138Z
TZOFFSETFROM:+0000
TZOFFSETTO:+0000
END:STANDARD
END:VTIMEZONE
BEGIN:VEVENT
UID:58-50
DTSTAMP:20260423T014138Z
SUMMARY:Weihnachtsmarkt Aichelberg
LOCATION:Rathausplatz Aichelberg Vorderbergstrasse 2  Aichelberg Baden-Wür
 ttemberg 73101
ORGANIZER;CN=Derrick:MAILTO:derrick@derbergnauf.de
DTSTART;TZID=Etc/GMT+0:20251130T150000
DTEND;TZID=Etc/GMT+0:20251130T180000
X-ALT-DESC;FMTTYPE=TEXT/HTML:<p>Weihnachtsmarkt Aichelberg</p>\n
CATEGORIES:General
URL;VALUE=URI:https://derbergnauf.de/mc-events/weihnachtsmarkt-aichelberg/
METHOD:PUBLISH
END:VEVENT
END:VCALENDAR