BEGIN:VCALENDAR
VERSION:2.0
PRODID:spatie/icalendar-generator
DESCRIPTION:Veranstaltungen von Narrenzunft Vulkania Aichelberg e.V.
X-WR-CALDESC:Veranstaltungen von Narrenzunft Vulkania Aichelberg e.V.
REFRESH-INTERVAL;VALUE=DURATION:PT1440M
X-PUBLISHED-TTL:PT1440M
BEGIN:VTIMEZONE
TZID:Etc/GMT+0
BEGIN:STANDARD
DTSTART:20241105T170000Z
TZOFFSETFROM:+0000
TZOFFSETTO:+0000
END:STANDARD
END:VTIMEZONE
BEGIN:VTIMEZONE
TZID:UTC
BEGIN:STANDARD
DTSTART:20250726T214132Z
TZOFFSETFROM:+0000
TZOFFSETTO:+0000
END:STANDARD
END:VTIMEZONE
BEGIN:VEVENT
UID:54-47
DTSTAMP:20260422T214132Z
SUMMARY:SUNSET-Chill auf dem Vulkan
LOCATION:Aichelberg   Aichelberg Baden-Württemberg
ORGANIZER;CN=Derrick:MAILTO:derrick@derbergnauf.de
DTSTART;TZID=Etc/GMT+0:20250802T170000
DTEND;TZID=Etc/GMT+0:20250802T220000
X-ALT-DESC;FMTTYPE=TEXT/HTML:SUNSET-Chill auf dem Vulkan
CATEGORIES:General
URL;VALUE=URI:https://derbergnauf.de/mc-events/sunset-chill-auf-dem-vulkan/
METHOD:PUBLISH
END:VEVENT
END:VCALENDAR