BEGIN:VCALENDAR
VERSION:2.0
PRODID:spatie/icalendar-generator
DESCRIPTION:Veranstaltungen von Narrenzunft Vulkania Aichelberg e.V.
X-WR-CALDESC:Veranstaltungen von Narrenzunft Vulkania Aichelberg e.V.
REFRESH-INTERVAL;VALUE=DURATION:PT1440M
X-PUBLISHED-TTL:PT1440M
BEGIN:VTIMEZONE
TZID:Etc/GMT+0
BEGIN:STANDARD
DTSTART:20240604T140100Z
TZOFFSETFROM:+0000
TZOFFSETTO:+0000
END:STANDARD
END:VTIMEZONE
BEGIN:VTIMEZONE
TZID:UTC
BEGIN:STANDARD
DTSTART:20250726T103602Z
TZOFFSETFROM:+0000
TZOFFSETTO:+0000
END:STANDARD
END:VTIMEZONE
BEGIN:VEVENT
UID:48-42
DTSTAMP:20260422T103602Z
SUMMARY:Umzug NZ RuHaZu Kerkingen
LOCATION:Kerkingen   Kerkingen Baden-Württemberg 73441
ORGANIZER;CN=Derrick:MAILTO:derrick@derbergnauf.de
DTSTART;TZID=Etc/GMT+0:20250301T140100
DTEND;TZID=Etc/GMT+0:20250301T235900
X-ALT-DESC;FMTTYPE=TEXT/HTML:Umzug NZ RuHaZu Kerkingen
CATEGORIES:General
URL;VALUE=URI:https://derbergnauf.de/mc-events/umzug-nz-ruhazu-kerkingen-2/
METHOD:PUBLISH
END:VEVENT
END:VCALENDAR