BEGIN:VCALENDAR
VERSION:2.0
PRODID:spatie/icalendar-generator
DESCRIPTION:Veranstaltungen von Narrenzunft Vulkania Aichelberg e.V.
X-WR-CALDESC:Veranstaltungen von Narrenzunft Vulkania Aichelberg e.V.
REFRESH-INTERVAL;VALUE=DURATION:PT1440M
X-PUBLISHED-TTL:PT1440M
BEGIN:VTIMEZONE
TZID:Etc/GMT+0
BEGIN:STANDARD
DTSTART:20240508T133000Z
TZOFFSETFROM:+0000
TZOFFSETTO:+0000
END:STANDARD
END:VTIMEZONE
BEGIN:VTIMEZONE
TZID:UTC
BEGIN:STANDARD
DTSTART:20250725T225541Z
TZOFFSETFROM:+0000
TZOFFSETTO:+0000
END:STANDARD
END:VTIMEZONE
BEGIN:VEVENT
UID:40-35
DTSTAMP:20260421T225541Z
SUMMARY:Umzug NZ Furchenrutscher Rechberghausen
LOCATION:Rechberghausen   Rechberghausen Baden-Württemberg 73098
ORGANIZER;CN=Derrick:MAILTO:derrick@derbergnauf.de
DTSTART;TZID=Etc/GMT+0:20250202T133000
DTEND;TZID=Etc/GMT+0:20250202T190000
X-ALT-DESC;FMTTYPE=TEXT/HTML:Umzug NZ Furchenrutscher Rechberghausen
CATEGORIES:General
URL;VALUE=URI:https://derbergnauf.de/mc-events/umzug-nz-furchenrutscher-rec
 hberghausen/
METHOD:PUBLISH
END:VEVENT
END:VCALENDAR