BEGIN:VCALENDAR
VERSION:2.0
PRODID:spatie/icalendar-generator
DESCRIPTION:Veranstaltungen von Narrenzunft Vulkania Aichelberg e.V.
X-WR-CALDESC:Veranstaltungen von Narrenzunft Vulkania Aichelberg e.V.
REFRESH-INTERVAL;VALUE=DURATION:PT1440M
X-PUBLISHED-TTL:PT1440M
BEGIN:VTIMEZONE
TZID:Etc/GMT+0
BEGIN:STANDARD
DTSTART:20240506T195900Z
TZOFFSETFROM:+0000
TZOFFSETTO:+0000
END:STANDARD
END:VTIMEZONE
BEGIN:VTIMEZONE
TZID:UTC
BEGIN:STANDARD
DTSTART:20250725T193239Z
TZOFFSETFROM:+0000
TZOFFSETTO:+0000
END:STANDARD
END:VTIMEZONE
BEGIN:VEVENT
UID:38-33
DTSTAMP:20260421T193239Z
SUMMARY:Narrenparty Bardabacher Meerbachhexa
LOCATION:Bartenbach   Bartenbach Baden-Württemberg 73035
ORGANIZER;CN=Derrick:MAILTO:derrick@derbergnauf.de
DTSTART;TZID=Etc/GMT+0:20250131T195900
DTEND;TZID=Etc/GMT+0:20250131T235900
X-ALT-DESC;FMTTYPE=TEXT/HTML:Narrenparty Bardabacher Meerbachhexa
CATEGORIES:General
URL;VALUE=URI:https://derbergnauf.de/mc-events/narrenparty-bardabacher-meer
 bachhexa/
METHOD:PUBLISH
END:VEVENT
END:VCALENDAR