BEGIN:VCALENDAR
VERSION:2.0
PRODID:spatie/icalendar-generator
DESCRIPTION:Veranstaltungen von Narrenzunft Vulkania Aichelberg e.V.
X-WR-CALDESC:Veranstaltungen von Narrenzunft Vulkania Aichelberg e.V.
REFRESH-INTERVAL;VALUE=DURATION:PT1440M
X-PUBLISHED-TTL:PT1440M
BEGIN:VTIMEZONE
TZID:Etc/GMT+0
BEGIN:STANDARD
DTSTART:20240416T200000Z
TZOFFSETFROM:+0000
TZOFFSETTO:+0000
END:STANDARD
END:VTIMEZONE
BEGIN:VTIMEZONE
TZID:UTC
BEGIN:STANDARD
DTSTART:20250725T162311Z
TZOFFSETFROM:+0000
TZOFFSETTO:+0000
END:STANDARD
END:VTIMEZONE
BEGIN:VEVENT
UID:36-31
DTSTAMP:20260421T162311Z
SUMMARY:Maskentaufe NZ Mühlenhexen Mühlhausen
LOCATION:Mühlhausen im Täle   Mühlhausen im Täle Baden-Württemberg 733
 49
ORGANIZER;CN=Derrick:MAILTO:derrick@derbergnauf.de
DTSTART;TZID=Etc/GMT+0:20250111T200000
DTEND;TZID=Etc/GMT+0:20250111T210000
X-ALT-DESC;FMTTYPE=TEXT/HTML:Maskentaufe NZ Mühlenhexen Mühlhausen
CATEGORIES:General
URL;VALUE=URI:https://derbergnauf.de/mc-events/maskentaufe-nz-muehlenhexen-
 muehlhausen-2/
METHOD:PUBLISH
END:VEVENT
END:VCALENDAR