BEGIN:VCALENDAR
VERSION:2.0
PRODID:spatie/icalendar-generator
DESCRIPTION:Veranstaltungen von Narrenzunft Vulkania Aichelberg e.V.
X-WR-CALDESC:Veranstaltungen von Narrenzunft Vulkania Aichelberg e.V.
REFRESH-INTERVAL;VALUE=DURATION:PT1440M
X-PUBLISHED-TTL:PT1440M
BEGIN:VTIMEZONE
TZID:Etc/GMT+0
BEGIN:STANDARD
DTSTART:20230618T200000Z
TZOFFSETFROM:+0000
TZOFFSETTO:+0000
END:STANDARD
END:VTIMEZONE
BEGIN:VTIMEZONE
TZID:UTC
BEGIN:STANDARD
DTSTART:20250725T113844Z
TZOFFSETFROM:+0000
TZOFFSETTO:+0000
END:STANDARD
END:VTIMEZONE
BEGIN:VEVENT
UID:26-22
DTSTAMP:20260421T113844Z
SUMMARY:Zunftratssitzung
LOCATION:Zunfthäus\\'le Aichelberg Voderbergstrasse 1  Aichelberg Baden-W
 ürttemberg 73101
ORGANIZER;CN=Derrick:MAILTO:derrick@derbergnauf.de
DTSTART;TZID=Etc/GMT+0:20240314T200000
DTEND;TZID=Etc/GMT+0:20240314T220000
X-ALT-DESC;FMTTYPE=TEXT/HTML:erste Zunftratssitzung 2024 im Zunfthäus'le
CATEGORIES:General
URL;VALUE=URI:https://derbergnauf.de/mc-events/zunftratssitzung/
METHOD:PUBLISH
END:VEVENT
END:VCALENDAR