BEGIN:VCALENDAR
VERSION:2.0
PRODID:spatie/icalendar-generator
DESCRIPTION:Veranstaltungen von Narrenzunft Vulkania Aichelberg e.V.
X-WR-CALDESC:Veranstaltungen von Narrenzunft Vulkania Aichelberg e.V.
REFRESH-INTERVAL;VALUE=DURATION:PT1440M
X-PUBLISHED-TTL:PT1440M
BEGIN:VTIMEZONE
TZID:Etc/GMT+0
BEGIN:STANDARD
DTSTART:20230503T133000Z
TZOFFSETFROM:+0000
TZOFFSETTO:+0000
END:STANDARD
END:VTIMEZONE
BEGIN:VTIMEZONE
TZID:UTC
BEGIN:STANDARD
DTSTART:20250725T144133Z
TZOFFSETFROM:+0000
TZOFFSETTO:+0000
END:STANDARD
END:VTIMEZONE
BEGIN:VEVENT
UID:11-9
DTSTAMP:20260421T144133Z
SUMMARY:Narrensprung NZ Furchenrutscher Rechberghausen
LOCATION:Rechberghausen   Rechberghausen Baden-Württemberg 73098
ORGANIZER;CN=Derrick:MAILTO:derrick@derbergnauf.de
DTSTART;TZID=Etc/GMT+0:20240128T133000
DTEND;TZID=Etc/GMT+0:20240128T200000
X-ALT-DESC;FMTTYPE=TEXT/HTML:Narrensprung NZ Furchenrutscher Rechberghausen
CATEGORIES:General
URL;VALUE=URI:https://derbergnauf.de/mc-events/narrensprung-nz-furchenrutsc
 her-rechberghausen/
METHOD:PUBLISH
END:VEVENT
END:VCALENDAR