BEGIN:VCALENDAR
VERSION:2.0
PRODID:spatie/icalendar-generator
DESCRIPTION:Veranstaltungen von Narrenzunft Vulkania Aichelberg e.V.
X-WR-CALDESC:Veranstaltungen von Narrenzunft Vulkania Aichelberg e.V.
REFRESH-INTERVAL;VALUE=DURATION:PT1440M
X-PUBLISHED-TTL:PT1440M
BEGIN:VTIMEZONE
TZID:Etc/GMT+0
BEGIN:STANDARD
DTSTART:20250520T140100Z
TZOFFSETFROM:+0000
TZOFFSETTO:+0000
END:STANDARD
END:VTIMEZONE
BEGIN:VTIMEZONE
TZID:UTC
BEGIN:STANDARD
DTSTART:20250728T174730Z
TZOFFSETFROM:+0000
TZOFFSETTO:+0000
END:STANDARD
END:VTIMEZONE
BEGIN:VEVENT
UID:76-14
DTSTAMP:20260424T174730Z
SUMMARY:Umzug NZ RuHaZu Kerkingen
LOCATION:Kerkingen   Kerkingen Baden-Württemberg 73441
ORGANIZER;CN=Derrick:MAILTO:derrick@derbergnauf.de
DTSTART;TZID=Etc/GMT+0:20260214T140100
DTEND;TZID=Etc/GMT+0:20260214T200000
X-ALT-DESC;FMTTYPE=TEXT/HTML:Umzug NZ RuHaZu Kerkingen
CATEGORIES:General
URL;VALUE=URI:https://derbergnauf.de/mc-events/umzug-nz-ruhazu-kerkingen/
METHOD:PUBLISH
END:VEVENT
END:VCALENDAR