BEGIN:VCALENDAR
VERSION:2.0
PRODID:spatie/icalendar-generator
DESCRIPTION:Veranstaltungen von Narrenzunft Vulkania Aichelberg e.V.
X-WR-CALDESC:Veranstaltungen von Narrenzunft Vulkania Aichelberg e.V.
REFRESH-INTERVAL;VALUE=DURATION:PT1440M
X-PUBLISHED-TTL:PT1440M
BEGIN:VTIMEZONE
TZID:Etc/GMT+0
BEGIN:STANDARD
DTSTART:20250507T130100Z
TZOFFSETFROM:+0000
TZOFFSETTO:+0000
END:STANDARD
END:VTIMEZONE
BEGIN:VTIMEZONE
TZID:UTC
BEGIN:STANDARD
DTSTART:20250727T175245Z
TZOFFSETFROM:+0000
TZOFFSETTO:+0000
END:STANDARD
END:VTIMEZONE
BEGIN:VEVENT
UID:71-55
DTSTAMP:20260423T175245Z
SUMMARY:Narrensprung Heroldstatt
LOCATION:Heroldstatt   Heroldstadt Baden-Württemberg 72535
ORGANIZER;CN=Derrick:MAILTO:derrick@derbergnauf.de
DTSTART;TZID=Etc/GMT+0:20260201T130100
DTEND;TZID=Etc/GMT+0:20260201T160000
X-ALT-DESC;FMTTYPE=TEXT/HTML:<p>Narrensprung Heroldstatt</p>\n
CATEGORIES:General
URL;VALUE=URI:https://derbergnauf.de/mc-events/narrensprung-heroldstatt/
METHOD:PUBLISH
END:VEVENT
END:VCALENDAR