BEGIN:VCALENDAR
VERSION:2.0
PRODID:spatie/icalendar-generator
DESCRIPTION:Veranstaltungen von Narrenzunft Vulkania Aichelberg e.V.
X-WR-CALDESC:Veranstaltungen von Narrenzunft Vulkania Aichelberg e.V.
REFRESH-INTERVAL;VALUE=DURATION:PT1440M
X-PUBLISHED-TTL:PT1440M
BEGIN:VTIMEZONE
TZID:Etc/GMT+0
BEGIN:STANDARD
DTSTART:20250416T133000Z
TZOFFSETFROM:+0000
TZOFFSETTO:+0000
END:STANDARD
END:VTIMEZONE
BEGIN:VTIMEZONE
TZID:UTC
BEGIN:STANDARD
DTSTART:20250727T114820Z
TZOFFSETFROM:+0000
TZOFFSETTO:+0000
END:STANDARD
END:VTIMEZONE
BEGIN:VEVENT
UID:67-53
DTSTAMP:20260423T114820Z
SUMMARY:Umzug Donzdorf
LOCATION:Donzdorf   Donzdorf Baden-Württemberg 73072
ORGANIZER;CN=Derrick:MAILTO:derrick@derbergnauf.de
DTSTART;TZID=Etc/GMT+0:20260111T133000
DTEND;TZID=Etc/GMT+0:20260111T160000
X-ALT-DESC;FMTTYPE=TEXT/HTML:<p>Umzug Donzdorf</p>\n
CATEGORIES:General
URL;VALUE=URI:https://derbergnauf.de/mc-events/umzug-donzdorf/
METHOD:PUBLISH
END:VEVENT
END:VCALENDAR