BEGIN:VCALENDAR
VERSION:2.0
PRODID:spatie/icalendar-generator
DESCRIPTION:Veranstaltungen von Narrenzunft Vulkania Aichelberg e.V.
X-WR-CALDESC:Veranstaltungen von Narrenzunft Vulkania Aichelberg e.V.
REFRESH-INTERVAL;VALUE=DURATION:PT1440M
X-PUBLISHED-TTL:PT1440M
BEGIN:VTIMEZONE
TZID:Etc/GMT+0
BEGIN:STANDARD
DTSTART:20250414T190000Z
TZOFFSETFROM:+0000
TZOFFSETTO:+0000
END:STANDARD
END:VTIMEZONE
BEGIN:VTIMEZONE
TZID:UTC
BEGIN:STANDARD
DTSTART:20250727T090828Z
TZOFFSETFROM:+0000
TZOFFSETTO:+0000
END:STANDARD
END:VTIMEZONE
BEGIN:VEVENT
UID:65-5
DTSTAMP:20260423T090828Z
SUMMARY:Maskentaufe NZ Kirschkernspucker Heiningen
LOCATION:Heiningen   Heiningen Baden-Württemberg 73092
ORGANIZER;CN=Derrick:MAILTO:derrick@derbergnauf.de
DTSTART;TZID=Etc/GMT+0:20260109T190000
DTEND;TZID=Etc/GMT+0:20260109T235900
X-ALT-DESC;FMTTYPE=TEXT/HTML:Maskentaufe NZ Kirschkernspucker Heiningen
CATEGORIES:General
URL;VALUE=URI:https://derbergnauf.de/mc-events/maskentaufe-nz-kirschkernspu
 cker-heiningen/
METHOD:PUBLISH
END:VEVENT
END:VCALENDAR