BEGIN:VCALENDAR
VERSION:2.0
PRODID:spatie/icalendar-generator
DESCRIPTION:Veranstaltungen von Narrenzunft Vulkania Aichelberg e.V.
X-WR-CALDESC:Veranstaltungen von Narrenzunft Vulkania Aichelberg e.V.
REFRESH-INTERVAL;VALUE=DURATION:PT1440M
X-PUBLISHED-TTL:PT1440M
BEGIN:VTIMEZONE
TZID:Etc/GMT+0
BEGIN:STANDARD
DTSTART:20250411T141400Z
TZOFFSETFROM:+0000
TZOFFSETTO:+0000
END:STANDARD
END:VTIMEZONE
BEGIN:VTIMEZONE
TZID:UTC
BEGIN:STANDARD
DTSTART:20250727T072214Z
TZOFFSETFROM:+0000
TZOFFSETTO:+0000
END:STANDARD
END:VTIMEZONE
BEGIN:VEVENT
UID:64-28
DTSTAMP:20260423T072214Z
SUMMARY:Maskentaufe NZ Kloster-Deifl Kirchheim/Teck
LOCATION:Marktplatz Kircheim/Teck   Kirchheim/Teck Baden-Württemberg 73230
ORGANIZER;CN=Derrick:MAILTO:derrick@derbergnauf.de
DTSTART;TZID=Etc/GMT+0:20260106T141400
DTEND;TZID=Etc/GMT+0:20260106T151400
X-ALT-DESC;FMTTYPE=TEXT/HTML:Maskentaufe NZ Kloster-Deifl Kirchheim/Teck
CATEGORIES:General
URL;VALUE=URI:https://derbergnauf.de/mc-events/maskentaufe-nz-kloster-deifl
 -kirchheim-teck/
METHOD:PUBLISH
END:VEVENT
END:VCALENDAR