BEGIN:VCALENDAR
VERSION:2.0
PRODID:spatie/icalendar-generator
DESCRIPTION:Veranstaltungen von Narrenzunft Vulkania Aichelberg e.V.
X-WR-CALDESC:Veranstaltungen von Narrenzunft Vulkania Aichelberg e.V.
REFRESH-INTERVAL;VALUE=DURATION:PT1440M
X-PUBLISHED-TTL:PT1440M
BEGIN:VTIMEZONE
TZID:Etc/GMT+0
BEGIN:STANDARD
DTSTART:20240608T170000Z
TZOFFSETFROM:+0000
TZOFFSETTO:+0000
END:STANDARD
END:VTIMEZONE
BEGIN:VTIMEZONE
TZID:UTC
BEGIN:STANDARD
DTSTART:20250726T185241Z
TZOFFSETFROM:+0000
TZOFFSETTO:+0000
END:STANDARD
END:VTIMEZONE
BEGIN:VEVENT
UID:52-46
DTSTAMP:20260422T185241Z
SUMMARY:Narrenbaum fällen NZ Vulkania Aichelberg
LOCATION:Zunfthäus\\'le Aichelberg Voderbergstrasse 1  Aichelberg Baden-W
 ürttemberg 73101
ORGANIZER;CN=Derrick:MAILTO:derrick@derbergnauf.de
DTSTART;TZID=Etc/GMT+0:20250305T170000
DTEND;TZID=Etc/GMT+0:20250305T220000
X-ALT-DESC;FMTTYPE=TEXT/HTML:Narrenbaum fällen NZ Vulkania Aichelberg
CATEGORIES:General
URL;VALUE=URI:https://derbergnauf.de/mc-events/narrenbaum-faellen-nz-vulkan
 ia-aichelberg/
METHOD:PUBLISH
END:VEVENT
END:VCALENDAR