BEGIN:VCALENDAR
VERSION:2.0
PRODID:spatie/icalendar-generator
DESCRIPTION:Veranstaltungen von Narrenzunft Vulkania Aichelberg e.V.
X-WR-CALDESC:Veranstaltungen von Narrenzunft Vulkania Aichelberg e.V.
REFRESH-INTERVAL;VALUE=DURATION:PT1440M
X-PUBLISHED-TTL:PT1440M
BEGIN:VTIMEZONE
TZID:Etc/GMT+0
BEGIN:STANDARD
DTSTART:20240606T140100Z
TZOFFSETFROM:+0000
TZOFFSETTO:+0000
END:STANDARD
END:VTIMEZONE
BEGIN:VTIMEZONE
TZID:UTC
BEGIN:STANDARD
DTSTART:20250726T120432Z
TZOFFSETFROM:+0000
TZOFFSETTO:+0000
END:STANDARD
END:VTIMEZONE
BEGIN:VEVENT
UID:50-44
DTSTAMP:20260422T120432Z
SUMMARY:Rosenmontagsumzug FG Wiesensteig
LOCATION:Wiesensteig   Wiesensteig Baden-Württemberg 73349
ORGANIZER;CN=Derrick:MAILTO:derrick@derbergnauf.de
DTSTART;TZID=Etc/GMT+0:20250303T140100
DTEND;TZID=Etc/GMT+0:20250303T220000
X-ALT-DESC;FMTTYPE=TEXT/HTML:Rosenmontagsumzug FG Wiesensteig
CATEGORIES:General
URL;VALUE=URI:https://derbergnauf.de/mc-events/rosenmontagsumzug-fg-wiesens
 teig/
METHOD:PUBLISH
END:VEVENT
END:VCALENDAR