BEGIN:VCALENDAR
VERSION:2.0
PRODID:spatie/icalendar-generator
DESCRIPTION:Veranstaltungen von Narrenzunft Vulkania Aichelberg e.V.
X-WR-CALDESC:Veranstaltungen von Narrenzunft Vulkania Aichelberg e.V.
REFRESH-INTERVAL;VALUE=DURATION:PT1440M
X-PUBLISHED-TTL:PT1440M
BEGIN:VTIMEZONE
TZID:Etc/GMT+0
BEGIN:STANDARD
DTSTART:20240605T140100Z
TZOFFSETFROM:+0000
TZOFFSETTO:+0000
END:STANDARD
END:VTIMEZONE
BEGIN:VTIMEZONE
TZID:UTC
BEGIN:STANDARD
DTSTART:20250726T104129Z
TZOFFSETFROM:+0000
TZOFFSETTO:+0000
END:STANDARD
END:VTIMEZONE
BEGIN:VEVENT
UID:49-43
DTSTAMP:20260422T104129Z
SUMMARY:Umzug FG Gosbach
LOCATION:Gosbach   Gosbach Baden-Württemberg 73342
ORGANIZER;CN=Derrick:MAILTO:derrick@derbergnauf.de
DTSTART;TZID=Etc/GMT+0:20250302T140100
DTEND;TZID=Etc/GMT+0:20250302T150100
X-ALT-DESC;FMTTYPE=TEXT/HTML:Umzug FG Gosbach
CATEGORIES:General
URL;VALUE=URI:https://derbergnauf.de/mc-events/umzug-fg-gosbach-2/
METHOD:PUBLISH
END:VEVENT
END:VCALENDAR