BEGIN:VCALENDAR
VERSION:2.0
PRODID:spatie/icalendar-generator
DESCRIPTION:Veranstaltungen von Narrenzunft Vulkania Aichelberg e.V.
X-WR-CALDESC:Veranstaltungen von Narrenzunft Vulkania Aichelberg e.V.
REFRESH-INTERVAL;VALUE=DURATION:PT1440M
X-PUBLISHED-TTL:PT1440M
BEGIN:VTIMEZONE
TZID:Etc/GMT+0
BEGIN:STANDARD
DTSTART:20240603T140100Z
TZOFFSETFROM:+0000
TZOFFSETTO:+0000
END:STANDARD
END:VTIMEZONE
BEGIN:VTIMEZONE
TZID:UTC
BEGIN:STANDARD
DTSTART:20250726T072751Z
TZOFFSETFROM:+0000
TZOFFSETTO:+0000
END:STANDARD
END:VTIMEZONE
BEGIN:VEVENT
UID:47-41
DTSTAMP:20260422T072751Z
SUMMARY:Umzug NZ Pfingstlümmel Hohenstadt
LOCATION:Hohenstadt   Hohenstadt Baden-Württemberg 73345
ORGANIZER;CN=Derrick:MAILTO:derrick@derbergnauf.de
DTSTART;TZID=Etc/GMT+0:20250228T140100
DTEND;TZID=Etc/GMT+0:20250228T190000
X-ALT-DESC;FMTTYPE=TEXT/HTML:Umzug NZ Pfingstlümmel Hohenstadt
CATEGORIES:General
URL;VALUE=URI:https://derbergnauf.de/mc-events/umzug-nz-pfingstluemmel-hohe
 nstadt-2/
METHOD:PUBLISH
END:VEVENT
END:VCALENDAR