BEGIN:VCALENDAR
VERSION:2.0
PRODID:spatie/icalendar-generator
DESCRIPTION:Veranstaltungen von Narrenzunft Vulkania Aichelberg e.V.
X-WR-CALDESC:Veranstaltungen von Narrenzunft Vulkania Aichelberg e.V.
REFRESH-INTERVAL;VALUE=DURATION:PT1440M
X-PUBLISHED-TTL:PT1440M
BEGIN:VTIMEZONE
TZID:Etc/GMT+0
BEGIN:STANDARD
DTSTART:20240602T160100Z
TZOFFSETFROM:+0000
TZOFFSETTO:+0000
END:STANDARD
END:VTIMEZONE
BEGIN:VTIMEZONE
TZID:UTC
BEGIN:STANDARD
DTSTART:20250726T054527Z
TZOFFSETFROM:+0000
TZOFFSETTO:+0000
END:STANDARD
END:VTIMEZONE
BEGIN:VEVENT
UID:46-40
DTSTAMP:20260422T054527Z
SUMMARY:Umzug NZ Lenninger Hexa
LOCATION:Lenningen
ORGANIZER;CN=Derrick:MAILTO:derrick@derbergnauf.de
DTSTART;TZID=Etc/GMT+0:20250227T160100
DTEND;TZID=Etc/GMT+0:20250227T200000
X-ALT-DESC;FMTTYPE=TEXT/HTML:Umzug NZ Lenninger Hexa
CATEGORIES:General
URL;VALUE=URI:https://derbergnauf.de/mc-events/umzug-nz-lenninger-hexa-2/
METHOD:PUBLISH
END:VEVENT
END:VCALENDAR