BEGIN:VCALENDAR
VERSION:2.0
PRODID:spatie/icalendar-generator
DESCRIPTION:Veranstaltungen von Narrenzunft Vulkania Aichelberg e.V.
X-WR-CALDESC:Veranstaltungen von Narrenzunft Vulkania Aichelberg e.V.
REFRESH-INTERVAL;VALUE=DURATION:PT1440M
X-PUBLISHED-TTL:PT1440M
BEGIN:VTIMEZONE
TZID:Etc/GMT+0
BEGIN:STANDARD
DTSTART:20240528T140100Z
TZOFFSETFROM:+0000
TZOFFSETTO:+0000
END:STANDARD
END:VTIMEZONE
BEGIN:VTIMEZONE
TZID:UTC
BEGIN:STANDARD
DTSTART:20250726T021620Z
TZOFFSETFROM:+0000
TZOFFSETTO:+0000
END:STANDARD
END:VTIMEZONE
BEGIN:VEVENT
UID:44-38
DTSTAMP:20260422T021620Z
SUMMARY:Umzug NZ Deggner Leirakiebl Deggingen
LOCATION:Deggingen   Deggingen Baden-Württemberg 73326
ORGANIZER;CN=Derrick:MAILTO:derrick@derbergnauf.de
DTSTART;TZID=Etc/GMT+0:20250222T140100
DTEND;TZID=Etc/GMT+0:20250222T220000
X-ALT-DESC;FMTTYPE=TEXT/HTML:Umzug NZ Deggner Leirakiebl Deggingen
CATEGORIES:General
URL;VALUE=URI:https://derbergnauf.de/mc-events/umzug-nz-deggner-leirakiebl-
 deggingen/
METHOD:PUBLISH
END:VEVENT
END:VCALENDAR