BEGIN:VCALENDAR
VERSION:2.0
PRODID:spatie/icalendar-generator
DESCRIPTION:Veranstaltungen von Narrenzunft Vulkania Aichelberg e.V.
X-WR-CALDESC:Veranstaltungen von Narrenzunft Vulkania Aichelberg e.V.
REFRESH-INTERVAL;VALUE=DURATION:PT1440M
X-PUBLISHED-TTL:PT1440M
BEGIN:VTIMEZONE
TZID:Etc/GMT+0
BEGIN:STANDARD
DTSTART:20240522T140000Z
TZOFFSETFROM:+0000
TZOFFSETTO:+0000
END:STANDARD
END:VTIMEZONE
BEGIN:VTIMEZONE
TZID:UTC
BEGIN:STANDARD
DTSTART:20250726T002247Z
TZOFFSETFROM:+0000
TZOFFSETTO:+0000
END:STANDARD
END:VTIMEZONE
BEGIN:VEVENT
UID:43-37
DTSTAMP:20260422T002247Z
SUMMARY:Umzug Illertissen Au
LOCATION:Illertissen Au   Illertissen Au Bayern 89257
ORGANIZER;CN=Derrick:MAILTO:derrick@derbergnauf.de
DTSTART;TZID=Etc/GMT+0:20250216T140000
DTEND;TZID=Etc/GMT+0:20250216T235900
X-ALT-DESC;FMTTYPE=TEXT/HTML:Umzug Illertissen Au
CATEGORIES:General
URL;VALUE=URI:https://derbergnauf.de/mc-events/umzug-illertissen-au/
METHOD:PUBLISH
END:VEVENT
END:VCALENDAR