BEGIN:VCALENDAR
VERSION:2.0
PRODID:spatie/icalendar-generator
DESCRIPTION:Veranstaltungen von Narrenzunft Vulkania Aichelberg e.V.
X-WR-CALDESC:Veranstaltungen von Narrenzunft Vulkania Aichelberg e.V.
REFRESH-INTERVAL;VALUE=DURATION:PT1440M
X-PUBLISHED-TTL:PT1440M
BEGIN:VTIMEZONE
TZID:Etc/GMT+0
BEGIN:STANDARD
DTSTART:20240514T180100Z
TZOFFSETFROM:+0000
TZOFFSETTO:+0000
END:STANDARD
END:VTIMEZONE
BEGIN:VTIMEZONE
TZID:UTC
BEGIN:STANDARD
DTSTART:20250725T224302Z
TZOFFSETFROM:+0000
TZOFFSETTO:+0000
END:STANDARD
END:VTIMEZONE
BEGIN:VEVENT
UID:41-36
DTSTAMP:20260421T224302Z
SUMMARY:Nachtumzug FG Gosbach
LOCATION:
ORGANIZER;CN=Derrick:MAILTO:derrick@derbergnauf.de
DTSTART;TZID=Etc/GMT+0:20250208T180100
DTEND;TZID=Etc/GMT+0:20250208T235900
X-ALT-DESC;FMTTYPE=TEXT/HTML:Nachtumzug FG Gosbach
CATEGORIES:General
URL;VALUE=URI:https://derbergnauf.de/mc-events/nachtumzug-fg-gosbach/
METHOD:PUBLISH
END:VEVENT
END:VCALENDAR