BEGIN:VCALENDAR
VERSION:2.0
PRODID:spatie/icalendar-generator
DESCRIPTION:Veranstaltungen von Narrenzunft Vulkania Aichelberg e.V.
X-WR-CALDESC:Veranstaltungen von Narrenzunft Vulkania Aichelberg e.V.
REFRESH-INTERVAL;VALUE=DURATION:PT1440M
X-PUBLISHED-TTL:PT1440M
BEGIN:VTIMEZONE
TZID:Etc/GMT+0
BEGIN:STANDARD
DTSTART:20240415T180000Z
TZOFFSETFROM:+0000
TZOFFSETTO:+0000
END:STANDARD
END:VTIMEZONE
BEGIN:VTIMEZONE
TZID:UTC
BEGIN:STANDARD
DTSTART:20250725T115736Z
TZOFFSETFROM:+0000
TZOFFSETTO:+0000
END:STANDARD
END:VTIMEZONE
BEGIN:VEVENT
UID:34-29
DTSTAMP:20260421T115736Z
SUMMARY:Maskentaufe NZ Deggner Leirakiebl Deggingen
LOCATION:Deggingen   Deggingen Baden-Württemberg 73326
ORGANIZER;CN=Derrick:MAILTO:derrick@derbergnauf.de
DTSTART;TZID=Etc/GMT+0:20250110T180000
DTEND;TZID=Etc/GMT+0:20250110T190000
X-ALT-DESC;FMTTYPE=TEXT/HTML:Maskentaufe NZ Deggner Leirakiebl Deggingen
CATEGORIES:General
URL;VALUE=URI:https://derbergnauf.de/mc-events/maskentaufe-nz-deggner-leira
 kiebl-deggingen/
METHOD:PUBLISH
END:VEVENT
END:VCALENDAR