BEGIN:VCALENDAR
VERSION:2.0
PRODID:spatie/icalendar-generator
DESCRIPTION:Veranstaltungen von Narrenzunft Vulkania Aichelberg e.V.
X-WR-CALDESC:Veranstaltungen von Narrenzunft Vulkania Aichelberg e.V.
REFRESH-INTERVAL;VALUE=DURATION:PT1440M
X-PUBLISHED-TTL:PT1440M
BEGIN:VTIMEZONE
TZID:Etc/GMT+0
BEGIN:STANDARD
DTSTART:20240411T103000Z
TZOFFSETFROM:+0000
TZOFFSETTO:+0000
END:STANDARD
END:VTIMEZONE
BEGIN:VTIMEZONE
TZID:UTC
BEGIN:STANDARD
DTSTART:20250725T101940Z
TZOFFSETFROM:+0000
TZOFFSETTO:+0000
END:STANDARD
END:VTIMEZONE
BEGIN:VEVENT
UID:32-27
DTSTAMP:20260421T101940Z
SUMMARY:Häs abstauben NZ Vulkania Aichelberg
LOCATION:Zunfthäus\\'le Aichelberg Voderbergstrasse 1  Aichelberg Baden-W
 ürttemberg 73101
ORGANIZER;CN=Derrick:MAILTO:derrick@derbergnauf.de
DTSTART;TZID=Etc/GMT+0:20250106T103000
DTEND;TZID=Etc/GMT+0:20250106T130000
X-ALT-DESC;FMTTYPE=TEXT/HTML:Häs abstauben NZ Vulkania Aichelberg
CATEGORIES:General
URL;VALUE=URI:https://derbergnauf.de/mc-events/haes-abstauben-nz-vulkania-a
 ichelberg-2/
METHOD:PUBLISH
END:VEVENT
END:VCALENDAR