BEGIN:VCALENDAR
VERSION:2.0
PRODID:spatie/icalendar-generator
DESCRIPTION:Veranstaltungen von Narrenzunft Vulkania Aichelberg e.V.
X-WR-CALDESC:Veranstaltungen von Narrenzunft Vulkania Aichelberg e.V.
REFRESH-INTERVAL;VALUE=DURATION:PT1440M
X-PUBLISHED-TTL:PT1440M
BEGIN:VTIMEZONE
TZID:Etc/GMT+0
BEGIN:STANDARD
DTSTART:20240410T190100Z
TZOFFSETFROM:+0000
TZOFFSETTO:+0000
END:STANDARD
END:VTIMEZONE
BEGIN:VTIMEZONE
TZID:UTC
BEGIN:STANDARD
DTSTART:20250723T133323Z
TZOFFSETFROM:+0000
TZOFFSETTO:+0000
END:STANDARD
END:VTIMEZONE
BEGIN:VEVENT
UID:31-25
DTSTAMP:20260419T133323Z
SUMMARY:Häs abstauben NZ Forstberghexen Wangen
LOCATION:Wangen   Wangen Baden-Württemberg 73117
ORGANIZER;CN=Derrick:MAILTO:derrick@derbergnauf.de
DTSTART;TZID=Etc/GMT+0:20250105T190100
DTEND;TZID=Etc/GMT+0:20250105T235900
X-ALT-DESC;FMTTYPE=TEXT/HTML:Häs abstauben NZ Forstberghexen Wangen
CATEGORIES:General
URL;VALUE=URI:https://derbergnauf.de/mc-events/haes-abstauben-nz-forstbergh
 exen-wangen-2/
METHOD:PUBLISH
END:VEVENT
END:VCALENDAR